BEGIN:VCALENDAR
VERSION:2.0
PRODID:-//WindsorGigs.com - ECPv6.15.20//NONSGML v1.0//EN
CALSCALE:GREGORIAN
METHOD:PUBLISH
X-ORIGINAL-URL:https://windsorgigs.com
X-WR-CALDESC:Events for WindsorGigs.com
REFRESH-INTERVAL;VALUE=DURATION:PT1H
X-Robots-Tag:noindex
X-PUBLISHED-TTL:PT1H
BEGIN:VTIMEZONE
TZID:America/Toronto
BEGIN:DAYLIGHT
TZOFFSETFROM:-0500
TZOFFSETTO:-0400
TZNAME:EDT
DTSTART:20240310T070000
END:DAYLIGHT
BEGIN:STANDARD
TZOFFSETFROM:-0400
TZOFFSETTO:-0500
TZNAME:EST
DTSTART:20241103T060000
END:STANDARD
BEGIN:DAYLIGHT
TZOFFSETFROM:-0500
TZOFFSETTO:-0400
TZNAME:EDT
DTSTART:20250309T070000
END:DAYLIGHT
BEGIN:STANDARD
TZOFFSETFROM:-0400
TZOFFSETTO:-0500
TZNAME:EST
DTSTART:20251102T060000
END:STANDARD
BEGIN:DAYLIGHT
TZOFFSETFROM:-0500
TZOFFSETTO:-0400
TZNAME:EDT
DTSTART:20260308T070000
END:DAYLIGHT
BEGIN:STANDARD
TZOFFSETFROM:-0400
TZOFFSETTO:-0500
TZNAME:EST
DTSTART:20261101T060000
END:STANDARD
END:VTIMEZONE
BEGIN:VEVENT
DTSTART;TZID=America/Toronto:20251017T200000
DTEND;TZID=America/Toronto:20251017T220000
DTSTAMP:20260421T101127
CREATED:20251007T054113Z
LAST-MODIFIED:20251007T063626Z
UID:335-1760731200-1760738400@windsorgigs.com
SUMMARY:Hello From the Other Side with Medium Bella Silva Cacilhas
DESCRIPTION:Are you ready for an unforgettable experience. Bella will connect with the spirit world and deliver messages from loved ones who have passed. Get ready for a fascinating and emotional journey as Bella shares her gift with the audience. Don’t miss out on this unique opportunity to connect with the other side.\n\nAges 18+   Approximately 2 hours long\n\nTickets:\n\nFront Row – $70+taxes & fees\nRows B&C – $55+taxes & fees\n(Rows A-C will receive a surprise bag with crystals etc)\n\nRows D-S – $45+taxes & fees\nRows T-X – $35+taxes & fees
URL:https://windsorgigs.com/event/hello-from-the-other-side-with-medium-bella-silva-cacilhas/
LOCATION:St. Clair Centre for the Arts\, 201 Riverside Drive West\, Windsor\, Ontario\, N9A 5K4\, Canada
CATEGORIES:shows
ATTACH;FMTTYPE=image/png:https://windsorgigs.com/wp-content/uploads/2025/10/event-other-side.png
END:VEVENT
BEGIN:VEVENT
DTSTART;TZID=America/Toronto:20251017T200000
DTEND;TZID=America/Toronto:20251017T220000
DTSTAMP:20260421T101127
CREATED:20251006T023939Z
LAST-MODIFIED:20251007T033454Z
UID:174-1760731200-1760738400@windsorgigs.com
SUMMARY:Gerry Dee: Funny You Should Say That
DESCRIPTION:8 PM – Acclaimed comedian Gerry Dee is bringing the laughs to The Colosseum stage on his Funny You Should Say That tour.
URL:https://windsorgigs.com/event/gerry-dee-funny-you-should-say-that/
LOCATION:Ontario
CATEGORIES:comedy
ATTACH;FMTTYPE=image/jpeg:https://windsorgigs.com/wp-content/uploads/2025/10/gerrydee.jpg
END:VEVENT
BEGIN:VEVENT
DTSTART;TZID=America/Toronto:20251017T170000
DTEND;TZID=America/Toronto:20251017T200000
DTSTAMP:20260421T101127
CREATED:20251011T164114Z
LAST-MODIFIED:20251011T164114Z
UID:620-1760720400-1760731200@windsorgigs.com
SUMMARY:Hogarth\, Hoppe\, and Mulveney
DESCRIPTION:3 bands\, 1 night! Only at the 519 BeerHouse
URL:https://windsorgigs.com/event/hogarth-hoppe-and-mulveney/
LOCATION:519 BeerHouse\, 11828 Tecumseh Rd E\, windsor\, Ontario\, N8N 1L7\, Canada
CATEGORIES:music
ATTACH;FMTTYPE=image/jpeg:https://windsorgigs.com/wp-content/uploads/2025/10/515441598_10224607430608151_7647520414572419680_n.jpg
END:VEVENT
BEGIN:VEVENT
DTSTART;VALUE=DATE:20251017
DTEND;VALUE=DATE:20251018
DTSTAMP:20260421T101127
CREATED:20251006T015723Z
LAST-MODIFIED:20251007T033501Z
UID:127-1760659200-1760745599@windsorgigs.com
SUMMARY:Make a Boo-quet!
DESCRIPTION:Join us at Central to celebrate spooky season by making an adorable boo-quet! It’ll be the perfect addition to your Hallowe’en decor. All ages welcome. Registration strongly recommended\, but not required. While supplies last. Contact Micaela at mmuldoon@windsorpubliclibrary.com for more information. \n  \n 
URL:https://windsorgigs.com/event/make-a-boo-quet/
LOCATION:Windsor Public Library – Central Branch\, 185 Ouellette Ave\, Windsor\, Ontario\, N9A 5S8\, Canada
CATEGORIES:art
ATTACH;FMTTYPE=image/jpeg:https://windsorgigs.com/wp-content/uploads/2025/10/1757374986.jpg
END:VEVENT
BEGIN:VEVENT
DTSTART;TZID=America/Toronto:20251016T190000
DTEND;TZID=America/Toronto:20251016T210000
DTSTAMP:20260421T101127
CREATED:20251010T052525Z
LAST-MODIFIED:20251010T052601Z
UID:514-1760641200-1760648400@windsorgigs.com
SUMMARY:Trivia Night at The Manchester Bar
DESCRIPTION:Thursdays are better with trivia!\nJoin your host\, BRN Trivia\, at The Manchester Bar every Thursday at 7pm for free trivia with prizes for the winning teams.\nWe’ll have drink specials and three rounds of trivia to keep you and your friends entertained and enjoying the evening!
URL:https://windsorgigs.com/event/trivia-night-at-the-manchester-bar/
LOCATION:Ontario
CATEGORIES:parties
ATTACH;FMTTYPE=image/png:https://windsorgigs.com/wp-content/uploads/2025/10/Manchester-Weekly.png
END:VEVENT
BEGIN:VEVENT
DTSTART;TZID=America/Toronto:20251016T080000
DTEND;TZID=America/Toronto:20251019T170000
DTSTAMP:20260421T101127
CREATED:20251007T053821Z
LAST-MODIFIED:20251007T053934Z
UID:328-1760601600-1760893200@windsorgigs.com
SUMMARY:Scarehouse Windsor Immersive Dinner Experience
DESCRIPTION:Enjoy a 90 minute VIP private themed immersive dining experience.  \nYou and your friends will savour over a multi-course meal and then venture thru all 5 of Scarehouse’s attractions – Scared Evil – Haunted Darkness – Ward 13 – Mirror Maze – Fun House \nIncludes VIP Fast Pass Access to: Scared Evil  \nMulti-Course Gore-met Menu: Fresh Bread\, Charcuterie\, Slow Braised London Broil with Mushroom Red Wine Jous\, Parmesan Truffle Potatoe Crouquette\, Chef’s Choice Mixed Roasted Veg and Dessert.  (Vegetarian dish available upon request). \nAlcohol is served but not included in the price presented.
URL:https://windsorgigs.com/event/scarehouse-windsor-immersive-dinner-experience/
LOCATION:Scarehouse\, 1441 McDougall St.\, Windsor\, Ontario\, N9A 1H8\, Canada
CATEGORIES:food
ATTACH;FMTTYPE=image/avif:https://windsorgigs.com/wp-content/uploads/2025/10/IMG_8146.avif
END:VEVENT
BEGIN:VEVENT
DTSTART;TZID=America/Toronto:20251015T203000
DTEND;TZID=America/Toronto:20251015T220000
DTSTAMP:20260421T101127
CREATED:20251006T024945Z
LAST-MODIFIED:20251007T033512Z
UID:196-1760560200-1760565600@windsorgigs.com
SUMMARY:Wicked Wednesdays: Haunted History Tours
DESCRIPTION:When the sun sets\, the dead come out to play… WICKED WEDNESDAYS \n👻 A ghost tour steeped in haunted history. The village remembers… do you dare to listen? \n📅 Dates: September 10\, 17\, 24 • October 1\, 15\, 22\, 29 \n⏰ Time: 8:30 PM start \n📍 Location: Heritage Village – 6155 Arner Townline\, Kingsville \n🎟 Tickets: $20 General Admission | $10 (Ages 12 & under) \n 
URL:https://windsorgigs.com/event/wicked-wednesdays-haunted-history-tours/
LOCATION:Canadian Transportation Museum and Heritage Village\, 6155 Arner Townline\, Kingsville\, Ontario\, N9Y 2E5\, Canada
CATEGORIES:holiday
ATTACH;FMTTYPE=image/jpeg:https://windsorgigs.com/wp-content/uploads/2025/10/1754931057.jpg
END:VEVENT
BEGIN:VEVENT
DTSTART;TZID=America/Toronto:20251012T220000
DTEND;TZID=America/Toronto:20251013T000000
DTSTAMP:20260421T101127
CREATED:20251011T165552Z
LAST-MODIFIED:20251011T165556Z
UID:663-1760306400-1760313600@windsorgigs.com
SUMMARY:The Soul Delegation
DESCRIPTION:The Soul Delegation is a 9-piece group that plays Classic Soul\,\nR & B\, Funk\, and Motown.\nNO COVER\, but we collect donations during the show in lieu of door admission. Your generosity is encouraged and appreciated.
URL:https://windsorgigs.com/event/the-soul-delegation/
LOCATION:Dominion House\, Dominion House\, 3140 Sandwich Street\, Windsor\, Ontario\, N9C 1A7\, Canada
CATEGORIES:music
ATTACH;FMTTYPE=image/jpeg:https://windsorgigs.com/wp-content/uploads/2025/10/553429233_1355846326550926_1220703926381965494_n.jpg
END:VEVENT
BEGIN:VEVENT
DTSTART;VALUE=DATE:20251012
DTEND;VALUE=DATE:20251013
DTSTAMP:20260421T101127
CREATED:20251006T030623Z
LAST-MODIFIED:20251007T033519Z
UID:206-1760227200-1760313599@windsorgigs.com
SUMMARY:Thanksgiving at Harbour House
DESCRIPTION:Join us for Thanksgiving Brunch this Sunday\, October 12th from 9AM – 2PM at Harbour House Windsor! Turkey carving\, omelette & waffle stations\, fresh fruit\, baked goods\, and so much more!\n Prices:Adults: $38.95 | Seniors (65+): $28.95 | Kids 5–12: $16.95 | Kids 4 & under: $6.95\n 9550 Riverside Drive East\, Windsor\, ON 226-620-0101
URL:https://windsorgigs.com/event/thanksgiving-at-harbour-house/
LOCATION:Harbour House\, 9550 Riverside Drive East\, Windsor\, Ontario\, N8P 1A1\, Canada
CATEGORIES:food
ATTACH;FMTTYPE=image/jpeg:https://windsorgigs.com/wp-content/uploads/2025/10/557724974_1335916011878265_8427296066766452857_n.jpg
END:VEVENT
BEGIN:VEVENT
DTSTART;TZID=America/Toronto:20251011T210000
DTEND;TZID=America/Toronto:20251011T233000
DTSTAMP:20260421T101127
CREATED:20251011T165846Z
LAST-MODIFIED:20251011T165846Z
UID:668-1760216400-1760225400@windsorgigs.com
SUMMARY:Rose City Rockers - A Tribute to the Heroes of Rock
DESCRIPTION:The Rose City Rockers are back to rock The Cherry with their electrifying high energy sets\, featuring some of classic rocks greatest hits as while as show casing some of their smash hit singles. \nThe Rock Blues Revolution continues\, Oct 11th! \nDoors @9:00pm \n19+ \n$10 Cover
URL:https://windsorgigs.com/event/rose-city-rockers-a-tribute-to-the-heroes-of-rock/
LOCATION:The Cherry Rock Lounge\, 63 Pitt St E\, Windsor\, Ontario\, N9A1G5\, Canada
CATEGORIES:music
ATTACH;FMTTYPE=image/jpeg:https://windsorgigs.com/wp-content/uploads/2025/10/6d505635591ce2b70be61f26e6e94eff3e5a8767533c45166c6d7c22369d4f36-rimg-w1200-h675-dcbc060f-gmir.jpg
END:VEVENT
BEGIN:VEVENT
DTSTART;TZID=America/Toronto:20251011T210000
DTEND;TZID=America/Toronto:20251011T230000
DTSTAMP:20260421T101127
CREATED:20251011T165356Z
LAST-MODIFIED:20251011T165356Z
UID:658-1760216400-1760223600@windsorgigs.com
SUMMARY:RECKLESS UPSTARTS // DISCO ASSAULT // DECADE // WOLFCHARGE
DESCRIPTION:Euro Tour Kickoff for Reckless Upstarts.  With Decade from Hamilton; who have a killer split LP out now with local D-beat rockers Wolfcharge.  Disco Assault returns after a short hiatus.  This one is All Ages for the kids at one of Windsors oldest pubs\, The Dominion House.  9pm\, $15.
URL:https://windsorgigs.com/event/reckless-upstarts-disco-assault-decade-wolfcharge/
LOCATION:Dominion House\, Dominion House\, 3140 Sandwich Street\, Windsor\, Ontario\, N9C 1A7\, Canada
CATEGORIES:music
ATTACH;FMTTYPE=image/webp:https://windsorgigs.com/wp-content/uploads/2025/10/22650772.webp
END:VEVENT
BEGIN:VEVENT
DTSTART;TZID=America/Toronto:20251011T193000
DTEND;TZID=America/Toronto:20251011T210000
DTSTAMP:20260421T101127
CREATED:20251006T081520Z
LAST-MODIFIED:20251007T033524Z
UID:240-1760211000-1760216400@windsorgigs.com
SUMMARY:Keesha Brownie LIVE Comedy at Tipsy Toucan (October 10-11th)
DESCRIPTION:Keesha Brownie has been featured at Just For Laughs\, Kevin Hart’s LOL Network\, and the Winnipeg Comedy Festival
URL:https://windsorgigs.com/event/keesha-brownie-live-comedy-at-tipsy-toucan-october-10-11th/
LOCATION:Ontario
CATEGORIES:comedy
ATTACH;FMTTYPE=image/jpeg:https://windsorgigs.com/wp-content/uploads/2025/10/keeshaoct1011.jpg
END:VEVENT
BEGIN:VEVENT
DTSTART;TZID=America/Toronto:20251011T190000
DTEND;TZID=America/Toronto:20251011T220000
DTSTAMP:20260421T101127
CREATED:20251011T053759Z
LAST-MODIFIED:20251011T053759Z
UID:572-1760209200-1760220000@windsorgigs.com
SUMMARY:Cherry'okee Night
DESCRIPTION:We’ve got a special edition of Cherry’okee for you this Thanksgiving long weekend\, hosted by the extremely talented Michaela Gray….. no cover and your favorite drink specials all night….come down this Saturday\, say hi to Michaela and sing your hearts out!
URL:https://windsorgigs.com/event/cherryokee-night/
LOCATION:The Cherry Rock Lounge\, 63 Pitt St E\, Windsor\, Ontario\, N9A1G5\, Canada
CATEGORIES:music
ATTACH;FMTTYPE=image/jpeg:https://windsorgigs.com/wp-content/uploads/2025/10/561568740_122189601326301191_6056385585786223740_n.jpg
END:VEVENT
BEGIN:VEVENT
DTSTART;TZID=America/Toronto:20251011T130000
DTEND;TZID=America/Toronto:20251011T170000
DTSTAMP:20260421T101127
CREATED:20251007T215748Z
LAST-MODIFIED:20251007T215812Z
UID:371-1760187600-1760202000@windsorgigs.com
SUMMARY:Tales of Sandwich Town Book Launch
DESCRIPTION:Free event\, Snacks and refreshments for all who attend! Hear a reading of Tales of Sandwich Town\, and meet the author! Spooky stories\, just in time for Halloween!
URL:https://windsorgigs.com/event/tales-of-sandwich-town-book-launch/
LOCATION:Storytellers Book Store\, 1473 Ottawa St\, Windsor\, Ontario\, N8X 2G1\, Canada
CATEGORIES:art
ATTACH;FMTTYPE=image/png:https://windsorgigs.com/wp-content/uploads/2025/10/1757122511.png
END:VEVENT
BEGIN:VEVENT
DTSTART;VALUE=DATE:20251011
DTEND;VALUE=DATE:20251012
DTSTAMP:20260421T101127
CREATED:20251006T020403Z
LAST-MODIFIED:20251007T033529Z
UID:137-1760140800-1760227199@windsorgigs.com
SUMMARY:Oktoberfest at the Heimat
DESCRIPTION:  \nGet ready to raise a Masskrug at Heimat Windsor\, the only place in town to savor an authentic Oktoberfest beer from Paulaner! We’ve been busy crafting an unforgettable 10-year celebration\, and trust us\, you won’t want to miss it! Picture lively schuhplattler dances\, mouthwatering German dishes\, exhilarating games\, and fantastic prizes that will keep the excitement buzzing. With friendly competitions and toe-tapping live music\, the atmosphere will be electric. Gather your friends and join us for a day of merriment\, good company\, and the true spirit of Bavaria. Let’s mke this Oktoberfest the best one yet!
URL:https://windsorgigs.com/event/oktoberfest-at-the-heimat/
LOCATION:Heimat\, 1367 Drouillard Rd\, Windsor\, Ontario\, N8Y 2R8\, Canada
CATEGORIES:food
ATTACH;FMTTYPE=image/png:https://windsorgigs.com/wp-content/uploads/2025/10/1757087596.png
END:VEVENT
BEGIN:VEVENT
DTSTART;TZID=America/Toronto:20251010T200000
DTEND;TZID=America/Toronto:20251011T140000
DTSTAMP:20260421T101127
CREATED:20251006T020211Z
LAST-MODIFIED:20251010T043156Z
UID:133-1760126400-1760191200@windsorgigs.com
SUMMARY:Arts Collective Theatre presents: EVITA
DESCRIPTION:Watch EVITA\, reinvented on the Windsor stagethis October.  Set against the backdrop of Argentina from 1934 to 1952\, this Tony Award-winning musical follows Eva Duarte’s journey from a poor\, illegitimate child to an ambitious actress and\, ultimately\, the most powerful woman in Latin America as the wife of President Juan Perón.  Narrated by Che\, the story explores key moments in Eva’s life\, including iconic numbers like “Don’t Cry for Me Argentina\,” “Buenos Aires\,” and “Another Suitcase in Another Hall\,” composed by the legendary duo Tim Rice and Andrew Lloyd Webber. With a captivating score blending Latin rhythms\, jazz\, pop\, and traditional musical influences\, Arts Collective Theatre’s reinvention of EVITA offers powerful roles\, a large ensemble\, and rich musical complexity. Show Dates:  Friday October 3\, 8:00 PM Saturday October 4\, 8:00 PM Sunday October 5\, 2:00 PM Friday October 10\, 8:00 PM Saturday October 11\, 2:00 PM & 8:00 PM
URL:https://windsorgigs.com/event/arts-collective-theatre-presents-evita/
LOCATION:Capitol Theatre Windsor\, 121 University Ave W\, Windsor\, Ontario\, N9A 4K7\, Canada
CATEGORIES:theatre
ATTACH;FMTTYPE=image/jpeg:https://windsorgigs.com/wp-content/uploads/2025/10/1755230807.jpg
END:VEVENT
BEGIN:VEVENT
DTSTART;TZID=America/Toronto:20251010T200000
DTEND;TZID=America/Toronto:20251010T220000
DTSTAMP:20260421T101127
CREATED:20251006T023810Z
LAST-MODIFIED:20251007T033541Z
UID:169-1760126400-1760133600@windsorgigs.com
SUMMARY:Il Divo By Candlelight
DESCRIPTION:8 PM – Caesars Windsor is excited to welcome Multi-Platinum classical group Il Divo to The Colosseum stage on their Il Divo By Candlelight tour.
URL:https://windsorgigs.com/event/il-divo-by-candlelight/
LOCATION:Caesars Windsor\, 377 Riverside Drive East\, Windsor\, Ontario\, N9A 7H7\, Canada
CATEGORIES:music
ATTACH;FMTTYPE=image/jpeg:https://windsorgigs.com/wp-content/uploads/2025/10/Ildivo.jpg
END:VEVENT
BEGIN:VEVENT
DTSTART;TZID=America/Toronto:20251010T183000
DTEND;TZID=America/Toronto:20251010T223000
DTSTAMP:20260421T101127
CREATED:20251010T052219Z
LAST-MODIFIED:20251010T052219Z
UID:507-1760121000-1760135400@windsorgigs.com
SUMMARY:Weird Science Movie Night
DESCRIPTION:October 10\, 6:30 pm to 10:30 pm\n$10.00 \n1985\nPG-13\n1h 34m \n1985 American teen science fantasy comedy film written and directed by John Hughes and starring Anthony Michael Hall\, Ilan Mitchell-Smith\, and Kelly LeBrock. \nTickets:\n$10+taxes & Fees \nGeneral Admission Seating \nDebit cards cannot be used as a form of online payment. Actual Visa & Mastercard only. NO AMEX. \nWe are not affiliated with any of the parking around the theatre \nNo refunds or exchanges on tickets. All sales are final \nThe Chrysler Theatre Intermission Cafe is now cashless; debit and credit cards only
URL:https://windsorgigs.com/event/weird-science-movie-night/
LOCATION:St. Clair Centre for the Arts\, 201 Riverside Drive West\, Windsor\, Ontario\, N9A 5K4\, Canada
CATEGORIES:film
ATTACH;FMTTYPE=image/jpeg:https://windsorgigs.com/wp-content/uploads/2025/10/event-weird-science-movie-923x1200-1.jpg
END:VEVENT
BEGIN:VEVENT
DTSTART;TZID=America/Toronto:20251010T100000
DTEND;TZID=America/Toronto:20251010T170000
DTSTAMP:20260421T101127
CREATED:20251006T080554Z
LAST-MODIFIED:20251007T033552Z
UID:222-1760090400-1760115600@windsorgigs.com
SUMMARY:Marine Careers Expo | Oct 10 &11
DESCRIPTION:The Marine Careers Expo is touring across Canada and will be making a stop in Windsor at Dieppe Gardens on October 11–12\, 2025. The Royal Canadian Navy\, Canadian Coast Guard\, Marine Careers Foundation\, and HMCS Hunter are joining forces to showcase exciting career opportunities in the marine sector. As part of the event\, the HMCS Margaret Brooke\, a Royal Canadian Navy ship\, will also be in Windsor and open to the public for tours from 10:00 to 17:00 each day.
URL:https://windsorgigs.com/event/marine-careers-expo-oct-10-11/
LOCATION:Ontario
CATEGORIES:employment
ATTACH;FMTTYPE=image/jpeg:https://windsorgigs.com/wp-content/uploads/2025/10/1757633371.jpg
END:VEVENT
BEGIN:VEVENT
DTSTART;TZID=America/Toronto:20251009T200000
DTEND;TZID=America/Toronto:20251010T003000
DTSTAMP:20260421T101127
CREATED:20251009T220354Z
LAST-MODIFIED:20251009T220613Z
UID:459-1760040000-1760056200@windsorgigs.com
SUMMARY:Soul Minors Thursday Jam
DESCRIPTION:The Soul Minors are back at the Walkerville Victoria Tavern this Thursday at 8:30pm – 12:30 am\nBring your own Instruments if you want to play!\nJammers are brought up in the order in which they arrive!
URL:https://windsorgigs.com/event/soul-minors-thursday-jam/
LOCATION:Victoria Tavern\, 400 Chilver Rd\, Windsor\, Ontario\, N8Y 2J7\, Canada
CATEGORIES:music
ATTACH;FMTTYPE=image/jpeg:https://windsorgigs.com/wp-content/uploads/2025/10/558777490_24795581976747674_5166693941612846044_n.jpg
END:VEVENT
BEGIN:VEVENT
DTSTART;TZID=America/Toronto:20251009T200000
DTEND;TZID=America/Toronto:20251009T220000
DTSTAMP:20260421T101127
CREATED:20251006T023431Z
LAST-MODIFIED:20251009T192120Z
UID:162-1760040000-1760047200@windsorgigs.com
SUMMARY:Wheel of Fortune LIVE! | Thursday\, October 9
DESCRIPTION:8 PM – Sony Pictures Television and Right Angle Entertainment have announced that Wheel of Fortune LIVE! will be making a stop in The Colosseum
URL:https://windsorgigs.com/event/wheel-of-fortune-live-thursday-october-9/
LOCATION:Caesars Windsor\, 377 Riverside Drive East\, Windsor\, Ontario\, N9A 7H7\, Canada
CATEGORIES:shows
ATTACH;FMTTYPE=image/jpeg:https://windsorgigs.com/wp-content/uploads/2025/10/WOF.jpg
END:VEVENT
BEGIN:VEVENT
DTSTART;TZID=America/Toronto:20251009T190000
DTEND;TZID=America/Toronto:20251009T220000
DTSTAMP:20260421T101127
CREATED:20251006T081126Z
LAST-MODIFIED:20251009T192721Z
UID:232-1760036400-1760047200@windsorgigs.com
SUMMARY:Guelph Storm vs. Windsor Spitfires
DESCRIPTION:Watch your Windsor Spitfires take on Western Conference rivals the Guelph Storm in an exciting OHL showdown!\n\nThis game’s theme is: First Responders Night\n\nSaluting those who serve. We honour our heroes in uniform—firefighters\, police\, EMTs\, and frontline workers. Join us for special recognitions and tributes throughout the game.\n\nGiveaway: Cogeco Magnet Calendar
URL:https://windsorgigs.com/event/guelph-storm-vs-windsor-spitfires/
LOCATION:WFCU Centre\, 8787 McHugh St.\, Windsor\, Ontario\, N8S 0A1\, Canada
CATEGORIES:sports
ATTACH;FMTTYPE=image/jpeg:https://windsorgigs.com/wp-content/uploads/2025/10/Spitfires1-Edited.jpg
END:VEVENT
BEGIN:VEVENT
DTSTART;VALUE=DATE:20251008
DTEND;VALUE=DATE:20251009
DTSTAMP:20260421T101127
CREATED:20251006T024740Z
LAST-MODIFIED:20251007T033621Z
UID:191-1759881600-1759967999@windsorgigs.com
SUMMARY:DisruptHR Windsor 3.0
DESCRIPTION:DisruptHR is an information exchange designed to energize\, inform\, and empower those in the HR field. Imagine the brilliance of TED Talks\, mixed with high-energy presentations and dynamic speakers\, all focused on the human experience in the workplace. With each event\, we spark fresh ideas and challenge the status quo\, creating an unforgettable experience for HR professionals and business leaders alike.
URL:https://windsorgigs.com/event/disrupthr-windsor-3-0/
LOCATION:Caesars Windsor\, 377 Riverside Drive East\, Windsor\, Ontario\, N9A 7H7\, Canada
CATEGORIES:employment
ATTACH;FMTTYPE=image/png:https://windsorgigs.com/wp-content/uploads/2025/10/1754408869.png
END:VEVENT
BEGIN:VEVENT
DTSTART;TZID=America/Toronto:20251007T190000
DTEND;TZID=America/Toronto:20251007T210000
DTSTAMP:20260421T101127
CREATED:20251006T024449Z
LAST-MODIFIED:20251006T081629Z
UID:186-1759863600-1759870800@windsorgigs.com
SUMMARY:Check In Don’t Check Out
DESCRIPTION:Join us for the second edition of Check In Don’t Check Out featuring Tyler Smith\, survivor of the 2018 Humboldt Broncos bus crash\, Amazing Race Canada winner\, and founder of Not Alone Co. This event will shine a light on the importance of mental health\, particularly among men who face unique challenges in seeking help and support. The need for conversation is paramount as males account for more than 75% of suicides in Canada.
URL:https://windsorgigs.com/event/check-in-dont-check-out/
LOCATION:Serbian Centre\, 6770 Tecumseh Rd E\, Windsor\, Ontario\, N8T 1E6\, Canada
ATTACH;FMTTYPE=image/png:https://windsorgigs.com/wp-content/uploads/2025/10/1755803251.png
END:VEVENT
BEGIN:VEVENT
DTSTART;TZID=America/Toronto:20251007T110000
DTEND;TZID=America/Toronto:20251007T200000
DTSTAMP:20260421T101127
CREATED:20251007T025415Z
LAST-MODIFIED:20251007T025522Z
UID:286-1759834800-1759867200@windsorgigs.com
SUMMARY:You’re Hired Trade Skills Series
DESCRIPTION:Join us on October 7th at the Toldo Lancer Centre in Windsor for the You’re Hired Trade Skills Series\, a one-day event designed to connect job seekers\, students\, and industry professionals with hands-on training and career opportunities in the skilled trades. This interactive event offers: Career Support Clinics – resume and interview preparation Professional Networking – meet employers\, mentors\, and industry experts Career Pathways Exploration – discover rewarding futures in the skilled trades Free Certifications – including ladder safety training\, confined space entry & monitor\, and fall protection training Whether you’re looking to start your career\, upgrade your skills\, or connect with employers\, this event is your opportunity to gain valuable tools\, certifications\, and connections to succeed in the skilled trades. 📍 Date & Location: October 7\, 2025 | Toldo Lancer Centre\, Windsor\, ON
URL:https://windsorgigs.com/event/youre-hired-trade-skills-series/
LOCATION:Toldo Lancer Center\, 2555 College Avenue\, Windsor\, Ontario\, N9B 3P4\, Canada
CATEGORIES:employment
ATTACH;FMTTYPE=image/jpeg:https://windsorgigs.com/wp-content/uploads/2025/10/1758204259-scaled.jpg
END:VEVENT
END:VCALENDAR